Workbook
Name Hidden_13: Hidden_1!$A$1:$A$8
Name Hidden_28: Hidden_2!$A$1:$A$3
Name Hidden_312: Hidden_3!$A$1:$A$2
Name Hidden_424: Hidden_4!$A$1:$A$2

Sheet Reporte de Formatos
A1: 47329
A2: TÍTULO | D2: NOMBRE CORTO | G2: DESCRIPCIÓN
A3: Las concesiones, contratos, convenios, permisos, licencias o autorizaciones otorgadas | D3: NLA95FXXVIII | G3: La información de cualquier tipo de concesión, contratos, convenios, permisos, licencias o autorizaciones otorgados, de acuerdo con sus atribuciones. La información se organizará por acto jurídico y publicarse a partir de la fecha en la que éste inició.
A4: 1 | B4: 4 | C4: 4 | D4: 9 | E4: 2 | F4: 2 | G4: 2 | H4: 1 | I4: 9 | J4: 1 | K4: 1 | L4: 1 | M4: 9 | N4: 1 | O4: 10 | P4: 4 | Q4: 4 | R4: 1 | S4: 7 | T4: 2 | U4: 6 | V4: 7 | W4: 7 | X4: 7 | Y4: 9 | Z4: 7 | AA4: 2 | AB4: 13 | AC4: 14
A5: 406978 | B5: 406991 | C5: 406992 | D5: 406968 | E5: 406993 | F5: 406979 | G5: 406980 | H5: 406972 | I5: 406990 | J5: 406973 | K5: 406974 | L5: 406975 | M5: 571227 | N5: 406976 | O5: 590155 | P5: 406982 | Q5: 406983 | R5: 406977 | S5: 406988 | T5: 406981 | U5: 406994 | V5: 406986 | W5: 406985 | X5: 406987 | Y5: 406995 | Z5: 406971 | AA5: 406969 | AB5: 406989 | AC5: 406970
A6: Tabla Campos
A7: Ejercicio | B7: Fecha de inicio del periodo que se informa | C7: Fecha de término del periodo que se informa | D7: Tipo de acto jurídico (catálogo) | E7: Número de control interno asignado, en su caso, al contrato, convenio, concesión, entre otros. | F7: Objeto de la realización del acto jurídico | G7: Fundamento jurídico por el cual se llevó a cabo el acto | H7: Unidad(es) o área(s) responsable(s) de instrumentación | I7: Sector al cual se otorgó el acto jurídico (catálogo) | J7: Nombre(s) de la persona física titular a quien se otorgó el acto jurídico | K7: Primer apellido de la persona física titular a quien se otorgó el acto jurídico | L7: Segundo apellido de la persona física titular a quien se otorgó el acto jurídico | M7: ESTE CRITERIO APLICA A PARTIR DEL 01/04/2023 -> Sexo (catálogo) | N7: Razón social de la persona moral titular a quien se otorgó el acto jurídico | O7: Persona(s) beneficiaria(s) final(es) Tabla_590155 | P7: Fecha de inicio de vigencia del acto jurídico | Q7: Fecha de término de vigencia del acto jurídico | R7: Cláusula en que se especifican los términos y condiciones del acto jurídico | S7: Hipervínculo al contrato, convenio, permiso, licencia o concesión | T7: Monto total o beneficio, servicio y/o recurso público aprovechado | U7: Monto entregado, bien, servicio y/o recurso público aprovechado al periodo que se informa | V7: Hipervínculo al documento donde se desglose el gasto a precios del año | W7: Hipervínculo al informe sobre el monto total erogado, que en su caso corresponda | X7: Hipervínculo al contrato plurianual modificado, en su caso | Y7: Se realizaron convenios modificatorios (catálogo) | Z7: Hipervínculo al convenio modificatorio, si así corresponde | AA7: Área(s) responsable(s) que genera(n), posee(n), publica(n) y actualizan la información | AB7: Fecha de actualización | AC7: Nota
A8: 2026 | B8: 46054 | C8: 46081 | D8: Permiso | E8: SSP/DT/OVP-186-25-A/2026 | F8: AUTORIZACIÓN PARA OCUPACIÓN EN VÍA PÚBLICA | G8: ARTÍCULO 6 DEL REGLAMENTO DE PERMISOS DE CONSTRUCCIÓN DE GUADALUPE, NUEVO LEÓN. ART. 52 FRACC. III, 52 BIS FRACC. VIII Y 65 BIS I, FRACC. I, PÁRRAFO II, DE LA LEY DE HACIENDA PARA LOS MUNICIPIOS DEL ESTADO DE NUEVO LEÓN. | H8: SECRETARÍA DE SERVICIOS PÚBLICOS | I8: Privado | J8: RICARDO HÉCTOR | K8: GARZA | L8: LIVAS | M8: Hombre | O8: 1 | P8: 46071 | Q8: 46090 | R8: ="PERMISO ESPECIAL PARA TRABAJOS EN LA VÍA PÚBLICA " & E8 -> PERMISO ESPECIAL PARA TRABAJOS EN LA VÍA PÚBLICA SSP/DT/OVP-186-25-A/2026 | S8: https://nuevatransparencia.guadalupe.gob.mx/cms/documentosTransparenciaLinks/349/106/anexo_6127_OVP-186-26.pdf | T8: USO DE LA VÍA PÚBLICA | U8: 0 | Y8: No | AA8: SECRETARÍA DE SERVICIOS PÚBLICOS | AB8: 46081 | AC8: LA COLUMNA V DE LOS HIPERVÍNCULOS DONDE SE DESGLOSE EL GASTO A PRECIOS DEL AÑO SE ENCUENTRA SIN INFORMACIÓN POR NO CORRESPONDERLE A ESTA SECRETARÍA. LA COLUMNA W DEL HIPERVÍNCULO AL INFORME SOBRE EL MONTO TOAL EROGADO, QUE EN SU CASO CORRESPONDA, SE ENCUENTRA EN BLANCO POR NO CORRESPONDERLE A ESTA SECRETARIA DICHA INFORMACIÓN. LA COLUMNA X DE HIPERVÍNCULOS AL CONTRATO PLURIANUAL MODIFICADO SE ENCUENTRA SIN INFORMACIÓN POR NO TRATARSE DE UN CONTRATO PLURIANUAL. LA COLUMNA Z DE HIPERVÍNCULO AL CONVENIO MODIFICATORIO SE ENCUENTRA SIN INFORMACIÓN POR NO HABERSE REALIZADO NINGÚN CONTRATO PLURIANUAL.
A9: 2026 | B9: 46054 | C9: 46081 | D9: Permiso | E9: SSP/DT/OVP-235-25-O/2025 | F9: AUTORIZACIÓN PARA OCUPACIÓN EN VÍA PÚBLICA | G9: ARTÍCULO 6 DEL REGLAMENTO DE PERMISOS DE CONSTRUCCIÓN DE GUADALUPE, NUEVO LEÓN. ART. 52 FRACC. III, 52 BIS FRACC. VIII Y 65 BIS I, FRACC. I, PÁRRAFO II, DE LA LEY DE HACIENDA PARA LOS MUNICIPIOS DEL ESTADO DE NUEVO LEÓN. | H9: SECRETARÍA DE SERVICIOS PÚBLICOS | I9: Privado | J9: DORA ELIA | K9: OCHOA | L9: RODRÍGUEZ | M9: Mujer | O9: 2 | P9: 46073 | Q9: 46132 | R9: ="PERMISO ESPECIAL PARA TRABAJOS EN LA VÍA PÚBLICA " & E9 -> PERMISO ESPECIAL PARA TRABAJOS EN LA VÍA PÚBLICA SSP/DT/OVP-235-25-O/2025 | S9: https://nuevatransparencia.guadalupe.gob.mx/cms/documentosTransparenciaLinks/349/106/anexo_6128_OVP-235-26.pdf | T9: USO DE LA VÍA PÚBLICA | U9: 0 | Y9: No | AA9: SECRETARÍA DE SERVICIOS PÚBLICOS | AB9: 46081 | AC9: LA COLUMNA V DE LOS HIPERVÍNCULOS DONDE SE DESGLOSE EL GASTO A PRECIOS DEL AÑO SE ENCUENTRA SIN INFORMACIÓN POR NO CORRESPONDERLE A ESTA SECRETARÍA. LA COLUMNA W DEL HIPERVÍNCULO AL INFORME SOBRE EL MONTO TOAL EROGADO, QUE EN SU CASO CORRESPONDA, SE ENCUENTRA EN BLANCO POR NO CORRESPONDERLE A ESTA SECRETARIA DICHA INFORMACIÓN. LA COLUMNA X DE HIPERVÍNCULOS AL CONTRATO PLURIANUAL MODIFICADO SE ENCUENTRA SIN INFORMACIÓN POR NO TRATARSE DE UN CONTRATO PLURIANUAL. LA COLUMNA Z DE HIPERVÍNCULO AL CONVENIO MODIFICATORIO SE ENCUENTRA SIN INFORMACIÓN POR NO HABERSE REALIZADO NINGÚN CONTRATO PLURIANUAL.
A10: 2026 | B10: 46054 | C10: 46081 | D10: Permiso | E10: SSP/DT/OVP-267-26-G/2026 | F10: AUTORIZACIÓN PARA OCUPACIÓN EN VÍA PÚBLICA | G10: ARTÍCULO 6 DEL REGLAMENTO DE PERMISOS DE CONSTRUCCIÓN DE GUADALUPE, NUEVO LEÓN. ART. 52 FRACC. III, 52 BIS FRACC. VIII Y 65 BIS I, FRACC. I, PÁRRAFO II, DE LA LEY DE HACIENDA PARA LOS MUNICIPIOS DEL ESTADO DE NUEVO LEÓN. | H10: SECRETARÍA DE SERVICIOS PÚBLICOS | I10: Privado | N10: NATURGY MÉXICO, S.A. DE C.V. | O10: 3 | P10: 46062 | Q10: 46064 | R10: ="PERMISO ESPECIAL PARA TRABAJOS EN LA VÍA PÚBLICA " & E10 -> PERMISO ESPECIAL PARA TRABAJOS EN LA VÍA PÚBLICA SSP/DT/OVP-267-26-G/2026 | S10: https://nuevatransparencia.guadalupe.gob.mx/cms/documentosTransparenciaLinks/349/106/anexo_6131_OVP-267-26.pdf | T10: USO DE LA VÍA PÚBLICA | U10: 0 | Y10: No | AA10: SECRETARÍA DE SERVICIOS PÚBLICOS | AB10: 46081 | AC10: LA COLUMNA V DE LOS HIPERVÍNCULOS DONDE SE DESGLOSE EL GASTO A PRECIOS DEL AÑO SE ENCUENTRA SIN INFORMACIÓN POR NO CORRESPONDERLE A ESTA SECRETARÍA. LA COLUMNA W DEL HIPERVÍNCULO AL INFORME SOBRE EL MONTO TOAL EROGADO, QUE EN SU CASO CORRESPONDA, SE ENCUENTRA EN BLANCO POR NO CORRESPONDERLE A ESTA SECRETARIA DICHA INFORMACIÓN. LA COLUMNA X DE HIPERVÍNCULOS AL CONTRATO PLURIANUAL MODIFICADO SE ENCUENTRA SIN INFORMACIÓN POR NO TRATARSE DE UN CONTRATO PLURIANUAL. LA COLUMNA Z DE HIPERVÍNCULO AL CONVENIO MODIFICATORIO SE ENCUENTRA SIN INFORMACIÓN POR NO HABERSE REALIZADO NINGÚN CONTRATO PLURIANUAL.
A11: 2026 | B11: 46054 | C11: 46081 | D11: Permiso | E11: SSP/DT/OVP-280-26-A/2026 | F11: AUTORIZACIÓN PARA OCUPACIÓN EN VÍA PÚBLICA | G11: ARTÍCULO 6 DEL REGLAMENTO DE PERMISOS DE CONSTRUCCIÓN DE GUADALUPE, NUEVO LEÓN. ART. 52 FRACC. III, 52 BIS FRACC. VIII Y 65 BIS I, FRACC. I, PÁRRAFO II, DE LA LEY DE HACIENDA PARA LOS MUNICIPIOS DEL ESTADO DE NUEVO LEÓN. | H11: SECRETARÍA DE SERVICIOS PÚBLICOS | I11: Privado | N11: SERVICIOS LOGÍSITICOS KEYON, S.A. DE C.V. | O11: 4 | P11: 46069 | Q11: 46073 | R11: ="PERMISO ESPECIAL PARA TRABAJOS EN LA VÍA PÚBLICA " & E11 -> PERMISO ESPECIAL PARA TRABAJOS EN LA VÍA PÚBLICA SSP/DT/OVP-280-26-A/2026 | S11: https://nuevatransparencia.guadalupe.gob.mx/cms/documentosTransparenciaLinks/349/106/anexo_6132_OVP-280-26.pdf | T11: USO DE LA VÍA PÚBLICA | U11: 0 | Y11: No | AA11: SECRETARÍA DE SERVICIOS PÚBLICOS | AB11: 46081 | AC11: LA COLUMNA V DE LOS HIPERVÍNCULOS DONDE SE DESGLOSE EL GASTO A PRECIOS DEL AÑO SE ENCUENTRA SIN INFORMACIÓN POR NO CORRESPONDERLE A ESTA SECRETARÍA. LA COLUMNA W DEL HIPERVÍNCULO AL INFORME SOBRE EL MONTO TOAL EROGADO, QUE EN SU CASO CORRESPONDA, SE ENCUENTRA EN BLANCO POR NO CORRESPONDERLE A ESTA SECRETARIA DICHA INFORMACIÓN. LA COLUMNA X DE HIPERVÍNCULOS AL CONTRATO PLURIANUAL MODIFICADO SE ENCUENTRA SIN INFORMACIÓN POR NO TRATARSE DE UN CONTRATO PLURIANUAL. LA COLUMNA Z DE HIPERVÍNCULO AL CONVENIO MODIFICATORIO SE ENCUENTRA SIN INFORMACIÓN POR NO HABERSE REALIZADO NINGÚN CONTRATO PLURIANUAL.
A12: 2026 | B12: 46054 | C12: 46081 | D12: Permiso | E12: SSP/DT/OVP-283-26-R/2026 | F12: AUTORIZACIÓN PARA OCUPACIÓN EN VÍA PÚBLICA | G12: ARTÍCULO 6 DEL REGLAMENTO DE PERMISOS DE CONSTRUCCIÓN DE GUADALUPE, NUEVO LEÓN. ART. 52 FRACC. III, 52 BIS FRACC. VIII Y 65 BIS I, FRACC. I, PÁRRAFO II, DE LA LEY DE HACIENDA PARA LOS MUNICIPIOS DEL ESTADO DE NUEVO LEÓN. | H12: SECRETARÍA DE SERVICIOS PÚBLICOS | I12: Privado | J12: NORMA JERUSALEM CELESTE | K12: CISNEROS | L12: GALVÁN | M12: Mujer | O12: 5 | P12: 45987 | Q12: 45992 | R12: ="PERMISO ESPECIAL PARA TRABAJOS EN LA VÍA PÚBLICA " & E12 -> PERMISO ESPECIAL PARA TRABAJOS EN LA VÍA PÚBLICA SSP/DT/OVP-283-26-R/2026 | S12: https://nuevatransparencia.guadalupe.gob.mx/cms/documentosTransparenciaLinks/349/106/anexo_6133_OVP-283-26.pdf | T12: USO DE LA VÍA PÚBLICA | U12: 0 | Y12: No | AA12: SECRETARÍA DE SERVICIOS PÚBLICOS | AB12: 46081 | AC12: LA COLUMNA V DE LOS HIPERVÍNCULOS DONDE SE DESGLOSE EL GASTO A PRECIOS DEL AÑO SE ENCUENTRA SIN INFORMACIÓN POR NO CORRESPONDERLE A ESTA SECRETARÍA. LA COLUMNA W DEL HIPERVÍNCULO AL INFORME SOBRE EL MONTO TOAL EROGADO, QUE EN SU CASO CORRESPONDA, SE ENCUENTRA EN BLANCO POR NO CORRESPONDERLE A ESTA SECRETARIA DICHA INFORMACIÓN. LA COLUMNA X DE HIPERVÍNCULOS AL CONTRATO PLURIANUAL MODIFICADO SE ENCUENTRA SIN INFORMACIÓN POR NO TRATARSE DE UN CONTRATO PLURIANUAL. LA COLUMNA Z DE HIPERVÍNCULO AL CONVENIO MODIFICATORIO SE ENCUENTRA SIN INFORMACIÓN POR NO HABERSE REALIZADO NINGÚN CONTRATO PLURIANUAL.
A13: 2026 | B13: 46054 | C13: 46081 | D13: Permiso | E13: SSP/DT/OVP-286-26-A/2026 | F13: AUTORIZACIÓN PARA OCUPACIÓN EN VÍA PÚBLICA | G13: ARTÍCULO 6 DEL REGLAMENTO DE PERMISOS DE CONSTRUCCIÓN DE GUADALUPE, NUEVO LEÓN. ART. 52 FRACC. III, 52 BIS FRACC. VIII Y 65 BIS I, FRACC. I, PÁRRAFO II, DE LA LEY DE HACIENDA PARA LOS MUNICIPIOS DEL ESTADO DE NUEVO LEÓN. | H13: SECRETARÍA DE SERVICIOS PÚBLICOS | I13: Privado | J13: TANIA LIZETH | K13: VALDEZ | L13: LOZANO | M13: Mujer | O13: 6 | P13: 46073 | Q13: 46087 | R13: ="PERMISO ESPECIAL PARA TRABAJOS EN LA VÍA PÚBLICA " & E13 -> PERMISO ESPECIAL PARA TRABAJOS EN LA VÍA PÚBLICA SSP/DT/OVP-286-26-A/2026 | S13: https://nuevatransparencia.guadalupe.gob.mx/cms/documentosTransparenciaLinks/349/106/anexo_6136_OVP-286-26-A.pdf | T13: USO DE LA VÍA PÚBLICA | U13: 0 | Y13: No | AA13: SECRETARÍA DE SERVICIOS PÚBLICOS | AB13: 46081 | AC13: LA COLUMNA V DE LOS HIPERVÍNCULOS DONDE SE DESGLOSE EL GASTO A PRECIOS DEL AÑO SE ENCUENTRA SIN INFORMACIÓN POR NO CORRESPONDERLE A ESTA SECRETARÍA. LA COLUMNA W DEL HIPERVÍNCULO AL INFORME SOBRE EL MONTO TOAL EROGADO, QUE EN SU CASO CORRESPONDA, SE ENCUENTRA EN BLANCO POR NO CORRESPONDERLE A ESTA SECRETARIA DICHA INFORMACIÓN. LA COLUMNA X DE HIPERVÍNCULOS AL CONTRATO PLURIANUAL MODIFICADO SE ENCUENTRA SIN INFORMACIÓN POR NO TRATARSE DE UN CONTRATO PLURIANUAL. LA COLUMNA Z DE HIPERVÍNCULO AL CONVENIO MODIFICATORIO SE ENCUENTRA SIN INFORMACIÓN POR NO HABERSE REALIZADO NINGÚN CONTRATO PLURIANUAL.
A14: 2026 | B14: 46054 | C14: 46081 | D14: Permiso | E14: SSP/DT/OVP-286-26-O/2026 | F14: AUTORIZACIÓN PARA OCUPACIÓN EN VÍA PÚBLICA | G14: ARTÍCULO 6 DEL REGLAMENTO DE PERMISOS DE CONSTRUCCIÓN DE GUADALUPE, NUEVO LEÓN. ART. 52 FRACC. III, 52 BIS FRACC. VIII Y 65 BIS I, FRACC. I, PÁRRAFO II, DE LA LEY DE HACIENDA PARA LOS MUNICIPIOS DEL ESTADO DE NUEVO LEÓN. | H14: SECRETARÍA DE SERVICIOS PÚBLICOS | I14: Privado | J14: TANIA LIZETH | K14: VALDEZ | L14: LOZANO | M14: Mujer | O14: 7 | P14: 46076 | Q14: 46083 | R14: ="PERMISO ESPECIAL PARA TRABAJOS EN LA VÍA PÚBLICA " & E14 -> PERMISO ESPECIAL PARA TRABAJOS EN LA VÍA PÚBLICA SSP/DT/OVP-286-26-O/2026 | S14: https://nuevatransparencia.guadalupe.gob.mx/cms/documentosTransparenciaLinks/349/106/anexo_6137_OVP-286-26.pdf | T14: USO DE LA VÍA PÚBLICA | U14: 0 | Y14: No | AA14: SECRETARÍA DE SERVICIOS PÚBLICOS | AB14: 46081 | AC14: LA COLUMNA V DE LOS HIPERVÍNCULOS DONDE SE DESGLOSE EL GASTO A PRECIOS DEL AÑO SE ENCUENTRA SIN INFORMACIÓN POR NO CORRESPONDERLE A ESTA SECRETARÍA. LA COLUMNA W DEL HIPERVÍNCULO AL INFORME SOBRE EL MONTO TOAL EROGADO, QUE EN SU CASO CORRESPONDA, SE ENCUENTRA EN BLANCO POR NO CORRESPONDERLE A ESTA SECRETARIA DICHA INFORMACIÓN. LA COLUMNA X DE HIPERVÍNCULOS AL CONTRATO PLURIANUAL MODIFICADO SE ENCUENTRA SIN INFORMACIÓN POR NO TRATARSE DE UN CONTRATO PLURIANUAL. LA COLUMNA Z DE HIPERVÍNCULO AL CONVENIO MODIFICATORIO SE ENCUENTRA SIN INFORMACIÓN POR NO HABERSE REALIZADO NINGÚN CONTRATO PLURIANUAL.
A15: 2026 | B15: 46054 | C15: 46081 | D15: Permiso | E15: SSP/DT/OVP-286-26-D/2026 | F15: AUTORIZACIÓN PARA OCUPACIÓN EN VÍA PÚBLICA | G15: ARTÍCULO 6 DEL REGLAMENTO DE PERMISOS DE CONSTRUCCIÓN DE GUADALUPE, NUEVO LEÓN. ART. 52 FRACC. III, 52 BIS FRACC. VIII Y 65 BIS I, FRACC. I, PÁRRAFO II, DE LA LEY DE HACIENDA PARA LOS MUNICIPIOS DEL ESTADO DE NUEVO LEÓN. | H15: SECRETARÍA DE SERVICIOS PÚBLICOS | I15: Privado | J15: TANIA LIZETH | K15: VALDEZ | L15: LOZANO | M15: Mujer | O15: 8 | P15: 46069 | Q15: 46079 | R15: ="PERMISO ESPECIAL PARA TRABAJOS EN LA VÍA PÚBLICA " & E15 -> PERMISO ESPECIAL PARA TRABAJOS EN LA VÍA PÚBLICA SSP/DT/OVP-286-26-D/2026 | S15: https://nuevatransparencia.guadalupe.gob.mx/cms/documentosTransparenciaLinks/349/106/anexo_6138_OVP-286-D.pdf | T15: USO DE LA VÍA PÚBLICA | U15: 0 | Y15: No | AA15: SECRETARÍA DE SERVICIOS PÚBLICOS | AB15: 46081 | AC15: LA COLUMNA V DE LOS HIPERVÍNCULOS DONDE SE DESGLOSE EL GASTO A PRECIOS DEL AÑO SE ENCUENTRA SIN INFORMACIÓN POR NO CORRESPONDERLE A ESTA SECRETARÍA. LA COLUMNA W DEL HIPERVÍNCULO AL INFORME SOBRE EL MONTO TOAL EROGADO, QUE EN SU CASO CORRESPONDA, SE ENCUENTRA EN BLANCO POR NO CORRESPONDERLE A ESTA SECRETARIA DICHA INFORMACIÓN. LA COLUMNA X DE HIPERVÍNCULOS AL CONTRATO PLURIANUAL MODIFICADO SE ENCUENTRA SIN INFORMACIÓN POR NO TRATARSE DE UN CONTRATO PLURIANUAL. LA COLUMNA Z DE HIPERVÍNCULO AL CONVENIO MODIFICATORIO SE ENCUENTRA SIN INFORMACIÓN POR NO HABERSE REALIZADO NINGÚN CONTRATO PLURIANUAL.
A16: 2026 | B16: 46054 | C16: 46081 | D16: Permiso | E16: SSP/DT/OVP-291-26-D/2026 | F16: AUTORIZACIÓN PARA OCUPACIÓN EN VÍA PÚBLICA | G16: ARTÍCULO 6 DEL REGLAMENTO DE PERMISOS DE CONSTRUCCIÓN DE GUADALUPE, NUEVO LEÓN. ART. 52 FRACC. III, 52 BIS FRACC. VIII Y 65 BIS I, FRACC. I, PÁRRAFO II, DE LA LEY DE HACIENDA PARA LOS MUNICIPIOS DEL ESTADO DE NUEVO LEÓN. | H16: SECRETARÍA DE SERVICIOS PÚBLICOS | I16: Privado | N16: INMOBILIARIA HL, S.A. DE C.V. Y HACIENDA LOMA LARGA, S.A. DE C.V. | O16: 9 | P16: 46069 | Q16: 46078 | R16: ="PERMISO ESPECIAL PARA TRABAJOS EN LA VÍA PÚBLICA " & E16 -> PERMISO ESPECIAL PARA TRABAJOS EN LA VÍA PÚBLICA SSP/DT/OVP-291-26-D/2026 | S16: https://nuevatransparencia.guadalupe.gob.mx/cms/documentosTransparenciaLinks/349/106/anexo_6143_OVP-291-26.pdf | T16: USO DE LA VÍA PÚBLICA | U16: 0 | Y16: No | AA16: SECRETARÍA DE SERVICIOS PÚBLICOS | AB16: 46081 | AC16: LA COLUMNA V DE LOS HIPERVÍNCULOS DONDE SE DESGLOSE EL GASTO A PRECIOS DEL AÑO SE ENCUENTRA SIN INFORMACIÓN POR NO CORRESPONDERLE A ESTA SECRETARÍA. LA COLUMNA W DEL HIPERVÍNCULO AL INFORME SOBRE EL MONTO TOAL EROGADO, QUE EN SU CASO CORRESPONDA, SE ENCUENTRA EN BLANCO POR NO CORRESPONDERLE A ESTA SECRETARIA DICHA INFORMACIÓN. LA COLUMNA X DE HIPERVÍNCULOS AL CONTRATO PLURIANUAL MODIFICADO SE ENCUENTRA SIN INFORMACIÓN POR NO TRATARSE DE UN CONTRATO PLURIANUAL. LA COLUMNA Z DE HIPERVÍNCULO AL CONVENIO MODIFICATORIO SE ENCUENTRA SIN INFORMACIÓN POR NO HABERSE REALIZADO NINGÚN CONTRATO PLURIANUAL.
A17: 2026 | B17: 46054 | C17: 46081 | D17: Permiso | E17: SSP/DT/OVP-291-26-A/2026 | F17: AUTORIZACIÓN PARA OCUPACIÓN EN VÍA PÚBLICA | G17: ARTÍCULO 6 DEL REGLAMENTO DE PERMISOS DE CONSTRUCCIÓN DE GUADALUPE, NUEVO LEÓN. ART. 52 FRACC. III, 52 BIS FRACC. VIII Y 65 BIS I, FRACC. I, PÁRRAFO II, DE LA LEY DE HACIENDA PARA LOS MUNICIPIOS DEL ESTADO DE NUEVO LEÓN. | H17: SECRETARÍA DE SERVICIOS PÚBLICOS | I17: Privado | N17: INMOBILIARIA HL, S.A. DE C.V. Y HACIENDA LOMA LARGA, S.A. DE C.V. | O17: 10 | P17: 46069 | Q17: 46078 | R17: ="PERMISO ESPECIAL PARA TRABAJOS EN LA VÍA PÚBLICA " & E17 -> PERMISO ESPECIAL PARA TRABAJOS EN LA VÍA PÚBLICA SSP/DT/OVP-291-26-A/2026 | S17: https://nuevatransparencia.guadalupe.gob.mx/cms/documentosTransparenciaLinks/349/106/anexo_6144_OVP-291-2026-A.pdf | T17: USO DE LA VÍA PÚBLICA | U17: 0 | Y17: No | AA17: SECRETARÍA DE SERVICIOS PÚBLICOS | AB17: 46081 | AC17: LA COLUMNA V DE LOS HIPERVÍNCULOS DONDE SE DESGLOSE EL GASTO A PRECIOS DEL AÑO SE ENCUENTRA SIN INFORMACIÓN POR NO CORRESPONDERLE A ESTA SECRETARÍA. LA COLUMNA W DEL HIPERVÍNCULO AL INFORME SOBRE EL MONTO TOAL EROGADO, QUE EN SU CASO CORRESPONDA, SE ENCUENTRA EN BLANCO POR NO CORRESPONDERLE A ESTA SECRETARIA DICHA INFORMACIÓN. LA COLUMNA X DE HIPERVÍNCULOS AL CONTRATO PLURIANUAL MODIFICADO SE ENCUENTRA SIN INFORMACIÓN POR NO TRATARSE DE UN CONTRATO PLURIANUAL. LA COLUMNA Z DE HIPERVÍNCULO AL CONVENIO MODIFICATORIO SE ENCUENTRA SIN INFORMACIÓN POR NO HABERSE REALIZADO NINGÚN CONTRATO PLURIANUAL.
A18: 2026 | B18: 46054 | C18: 46081 | D18: Permiso | E18: SSP/DT/OVP-293-26-B/2026 | F18: AUTORIZACIÓN PARA OCUPACIÓN EN VÍA PÚBLICA | G18: ARTÍCULO 6 DEL REGLAMENTO DE PERMISOS DE CONSTRUCCIÓN DE GUADALUPE, NUEVO LEÓN. ART. 52 FRACC. III, 52 BIS FRACC. VIII Y 65 BIS I, FRACC. I, PÁRRAFO II, DE LA LEY DE HACIENDA PARA LOS MUNICIPIOS DEL ESTADO DE NUEVO LEÓN. | H18: SECRETARÍA DE SERVICIOS PÚBLICOS | I18: Privado | N18: INMOBILIARIA 777, S.A. DE C.V. | O18: 11 | P18: 46069 | Q18: 46075 | R18: ="PERMISO ESPECIAL PARA TRABAJOS EN LA VÍA PÚBLICA " & E18 -> PERMISO ESPECIAL PARA TRABAJOS EN LA VÍA PÚBLICA SSP/DT/OVP-293-26-B/2026 | S18: https://nuevatransparencia.guadalupe.gob.mx/cms/documentosTransparenciaLinks/349/106/anexo_6145_OVP-293-26.pdf | T18: USO DE LA VÍA PÚBLICA | U18: 0 | Y18: No | AA18: SECRETARÍA DE SERVICIOS PÚBLICOS | AB18: 46081 | AC18: LA COLUMNA V DE LOS HIPERVÍNCULOS DONDE SE DESGLOSE EL GASTO A PRECIOS DEL AÑO SE ENCUENTRA SIN INFORMACIÓN POR NO CORRESPONDERLE A ESTA SECRETARÍA. LA COLUMNA W DEL HIPERVÍNCULO AL INFORME SOBRE EL MONTO TOAL EROGADO, QUE EN SU CASO CORRESPONDA, SE ENCUENTRA EN BLANCO POR NO CORRESPONDERLE A ESTA SECRETARIA DICHA INFORMACIÓN. LA COLUMNA X DE HIPERVÍNCULOS AL CONTRATO PLURIANUAL MODIFICADO SE ENCUENTRA SIN INFORMACIÓN POR NO TRATARSE DE UN CONTRATO PLURIANUAL. LA COLUMNA Z DE HIPERVÍNCULO AL CONVENIO MODIFICATORIO SE ENCUENTRA SIN INFORMACIÓN POR NO HABERSE REALIZADO NINGÚN CONTRATO PLURIANUAL.
A19: 2026 | B19: 46054 | C19: 46081 | D19: Permiso | E19: SSP/DT/OVP-294-26-A/2026 | F19: AUTORIZACIÓN PARA OCUPACIÓN EN VÍA PÚBLICA | G19: ARTÍCULO 6 DEL REGLAMENTO DE PERMISOS DE CONSTRUCCIÓN DE GUADALUPE, NUEVO LEÓN. ART. 52 FRACC. III, 52 BIS FRACC. VIII Y 65 BIS I, FRACC. I, PÁRRAFO II, DE LA LEY DE HACIENDA PARA LOS MUNICIPIOS DEL ESTADO DE NUEVO LEÓN. | H19: SECRETARÍA DE SERVICIOS PÚBLICOS | I19: Privado | J19: LEONILO | K19: RIVERA | L19: SÁNCHEZ | M19: Hombre | O19: 12 | P19: 46090 | Q19: 46093 | R19: ="PERMISO ESPECIAL PARA TRABAJOS EN LA VÍA PÚBLICA " & E19 -> PERMISO ESPECIAL PARA TRABAJOS EN LA VÍA PÚBLICA SSP/DT/OVP-294-26-A/2026 | S19: https://nuevatransparencia.guadalupe.gob.mx/cms/documentosTransparenciaLinks/349/106/anexo_6146_OVP-294-26.pdf | T19: USO DE LA VÍA PÚBLICA | U19: 0 | Y19: No | AA19: SECRETARÍA DE SERVICIOS PÚBLICOS | AB19: 46081 | AC19: LA COLUMNA V DE LOS HIPERVÍNCULOS DONDE SE DESGLOSE EL GASTO A PRECIOS DEL AÑO SE ENCUENTRA SIN INFORMACIÓN POR NO CORRESPONDERLE A ESTA SECRETARÍA. LA COLUMNA W DEL HIPERVÍNCULO AL INFORME SOBRE EL MONTO TOAL EROGADO, QUE EN SU CASO CORRESPONDA, SE ENCUENTRA EN BLANCO POR NO CORRESPONDERLE A ESTA SECRETARIA DICHA INFORMACIÓN. LA COLUMNA X DE HIPERVÍNCULOS AL CONTRATO PLURIANUAL MODIFICADO SE ENCUENTRA SIN INFORMACIÓN POR NO TRATARSE DE UN CONTRATO PLURIANUAL. LA COLUMNA Z DE HIPERVÍNCULO AL CONVENIO MODIFICATORIO SE ENCUENTRA SIN INFORMACIÓN POR NO HABERSE REALIZADO NINGÚN CONTRATO PLURIANUAL.
A20: 2026 | B20: 46054 | C20: 46081 | D20: Permiso | E20: SSP/DT/OVP-300-26-R/2026 | F20: AUTORIZACIÓN PARA OCUPACIÓN EN VÍA PÚBLICA | G20: ARTÍCULO 6 DEL REGLAMENTO DE PERMISOS DE CONSTRUCCIÓN DE GUADALUPE, NUEVO LEÓN. ART. 52 FRACC. III, 52 BIS FRACC. VIII Y 65 BIS I, FRACC. I, PÁRRAFO II, DE LA LEY DE HACIENDA PARA LOS MUNICIPIOS DEL ESTADO DE NUEVO LEÓN. | H20: SECRETARÍA DE SERVICIOS PÚBLICOS | I20: Privado | J20: MARÍA SANTOS | K20: ROMERO | L20: TERRAZAS | M20: Mujer | O20: 13 | P20: 46066 | Q20: 46069 | R20: ="PERMISO ESPECIAL PARA TRABAJOS EN LA VÍA PÚBLICA " & E20 -> PERMISO ESPECIAL PARA TRABAJOS EN LA VÍA PÚBLICA SSP/DT/OVP-300-26-R/2026 | S20: https://nuevatransparencia.guadalupe.gob.mx/cms/documentosTransparenciaLinks/349/106/anexo_6149_OVP-300-26.pdf | T20: USO DE LA VÍA PÚBLICA | U20: 0 | Y20: No | AA20: SECRETARÍA DE SERVICIOS PÚBLICOS | AB20: 46081 | AC20: LA COLUMNA V DE LOS HIPERVÍNCULOS DONDE SE DESGLOSE EL GASTO A PRECIOS DEL AÑO SE ENCUENTRA SIN INFORMACIÓN POR NO CORRESPONDERLE A ESTA SECRETARÍA. LA COLUMNA W DEL HIPERVÍNCULO AL INFORME SOBRE EL MONTO TOAL EROGADO, QUE EN SU CASO CORRESPONDA, SE ENCUENTRA EN BLANCO POR NO CORRESPONDERLE A ESTA SECRETARIA DICHA INFORMACIÓN. LA COLUMNA X DE HIPERVÍNCULOS AL CONTRATO PLURIANUAL MODIFICADO SE ENCUENTRA SIN INFORMACIÓN POR NO TRATARSE DE UN CONTRATO PLURIANUAL. LA COLUMNA Z DE HIPERVÍNCULO AL CONVENIO MODIFICATORIO SE ENCUENTRA SIN INFORMACIÓN POR NO HABERSE REALIZADO NINGÚN CONTRATO PLURIANUAL.
A21: 2026 | B21: 46054 | C21: 46081 | D21: Permiso | E21: SSP/DT/OVP-301-26-A/2026 | F21: AUTORIZACIÓN PARA OCUPACIÓN EN VÍA PÚBLICA | G21: ARTÍCULO 6 DEL REGLAMENTO DE PERMISOS DE CONSTRUCCIÓN DE GUADALUPE, NUEVO LEÓN. ART. 52 FRACC. III, 52 BIS FRACC. VIII Y 65 BIS I, FRACC. I, PÁRRAFO II, DE LA LEY DE HACIENDA PARA LOS MUNICIPIOS DEL ESTADO DE NUEVO LEÓN. | H21: SECRETARÍA DE SERVICIOS PÚBLICOS | I21: Privado | J21: OMAR DANIEL | K21: SALINAS | L21: MONTEJANO | M21: Hombre | O21: 14 | P21: 46097 | Q21: 46101 | R21: ="PERMISO ESPECIAL PARA TRABAJOS EN LA VÍA PÚBLICA " & E21 -> PERMISO ESPECIAL PARA TRABAJOS EN LA VÍA PÚBLICA SSP/DT/OVP-301-26-A/2026 | S21: https://nuevatransparencia.guadalupe.gob.mx/cms/documentosTransparenciaLinks/349/106/anexo_6151_OVP-301-26.pdf | T21: USO DE LA VÍA PÚBLICA | U21: 0 | Y21: No | AA21: SECRETARÍA DE SERVICIOS PÚBLICOS | AB21: 46081 | AC21: LA COLUMNA V DE LOS HIPERVÍNCULOS DONDE SE DESGLOSE EL GASTO A PRECIOS DEL AÑO SE ENCUENTRA SIN INFORMACIÓN POR NO CORRESPONDERLE A ESTA SECRETARÍA. LA COLUMNA W DEL HIPERVÍNCULO AL INFORME SOBRE EL MONTO TOAL EROGADO, QUE EN SU CASO CORRESPONDA, SE ENCUENTRA EN BLANCO POR NO CORRESPONDERLE A ESTA SECRETARIA DICHA INFORMACIÓN. LA COLUMNA X DE HIPERVÍNCULOS AL CONTRATO PLURIANUAL MODIFICADO SE ENCUENTRA SIN INFORMACIÓN POR NO TRATARSE DE UN CONTRATO PLURIANUAL. LA COLUMNA Z DE HIPERVÍNCULO AL CONVENIO MODIFICATORIO SE ENCUENTRA SIN INFORMACIÓN POR NO HABERSE REALIZADO NINGÚN CONTRATO PLURIANUAL.
A22: 2026 | B22: 46054 | C22: 46081 | D22: Permiso | E22: SSP/DT/OVP-301-26-D/2026 | F22: AUTORIZACIÓN PARA OCUPACIÓN EN VÍA PÚBLICA | G22: ARTÍCULO 6 DEL REGLAMENTO DE PERMISOS DE CONSTRUCCIÓN DE GUADALUPE, NUEVO LEÓN. ART. 52 FRACC. III, 52 BIS FRACC. VIII Y 65 BIS I, FRACC. I, PÁRRAFO II, DE LA LEY DE HACIENDA PARA LOS MUNICIPIOS DEL ESTADO DE NUEVO LEÓN. | H22: SECRETARÍA DE SERVICIOS PÚBLICOS | I22: Privado | J22: OMAR DANIEL | K22: SALINAS | L22: MONTEJANO | M22: Hombre | O22: 15 | P22: 46097 | Q22: 46101 | R22: ="PERMISO ESPECIAL PARA TRABAJOS EN LA VÍA PÚBLICA " & E22 -> PERMISO ESPECIAL PARA TRABAJOS EN LA VÍA PÚBLICA SSP/DT/OVP-301-26-D/2026 | S22: https://nuevatransparencia.guadalupe.gob.mx/cms/documentosTransparenciaLinks/349/106/anexo_6150_OVP-301-26-D.pdf | T22: USO DE LA VÍA PÚBLICA | U22: 0 | Y22: No | AA22: SECRETARÍA DE SERVICIOS PÚBLICOS | AB22: 46081 | AC22: LA COLUMNA V DE LOS HIPERVÍNCULOS DONDE SE DESGLOSE EL GASTO A PRECIOS DEL AÑO SE ENCUENTRA SIN INFORMACIÓN POR NO CORRESPONDERLE A ESTA SECRETARÍA. LA COLUMNA W DEL HIPERVÍNCULO AL INFORME SOBRE EL MONTO TOAL EROGADO, QUE EN SU CASO CORRESPONDA, SE ENCUENTRA EN BLANCO POR NO CORRESPONDERLE A ESTA SECRETARIA DICHA INFORMACIÓN. LA COLUMNA X DE HIPERVÍNCULOS AL CONTRATO PLURIANUAL MODIFICADO SE ENCUENTRA SIN INFORMACIÓN POR NO TRATARSE DE UN CONTRATO PLURIANUAL. LA COLUMNA Z DE HIPERVÍNCULO AL CONVENIO MODIFICATORIO SE ENCUENTRA SIN INFORMACIÓN POR NO HABERSE REALIZADO NINGÚN CONTRATO PLURIANUAL.
A23: 2026 | B23: 46054 | C23: 46081 | D23: Permiso | E23: SSP/DT/OVP-256-25-G/2026 | F23: AUTORIZACIÓN PARA OCUPACIÓN EN VÍA PÚBLICA | G23: ARTÍCULO 6 DEL REGLAMENTO DE PERMISOS DE CONSTRUCCIÓN DE GUADALUPE, NUEVO LEÓN. ART. 52 FRACC. III, 52 BIS FRACC. VIII Y 65 BIS I, FRACC. I, PÁRRAFO II, DE LA LEY DE HACIENDA PARA LOS MUNICIPIOS DEL ESTADO DE NUEVO LEÓN. | H23: SECRETARÍA DE SERVICIOS PÚBLICOS | I23: Privado | N23: COMPAÑÍA MEXICANA DE GAS, S.A.P.I. DE C.V. | O23: 16 | P23: 46000 | Q23: 46004 | R23: ="PERMISO ESPECIAL PARA TRABAJOS EN LA VÍA PÚBLICA " & E23 -> PERMISO ESPECIAL PARA TRABAJOS EN LA VÍA PÚBLICA SSP/DT/OVP-256-25-G/2026 | S23: https://nuevatransparencia.guadalupe.gob.mx/cms/documentosTransparenciaLinks/349/106/anexo_6129_OVP-256-26.pdf | T23: USO DE LA VÍA PÚBLICA | U23: 0 | Y23: No | AA23: SECRETARÍA DE SERVICIOS PÚBLICOS | AB23: 46081 | AC23: LA COLUMNA V DE LOS HIPERVÍNCULOS DONDE SE DESGLOSE EL GASTO A PRECIOS DEL AÑO SE ENCUENTRA SIN INFORMACIÓN POR NO CORRESPONDERLE A ESTA SECRETARÍA. LA COLUMNA W DEL HIPERVÍNCULO AL INFORME SOBRE EL MONTO TOAL EROGADO, QUE EN SU CASO CORRESPONDA, SE ENCUENTRA EN BLANCO POR NO CORRESPONDERLE A ESTA SECRETARIA DICHA INFORMACIÓN. LA COLUMNA X DE HIPERVÍNCULOS AL CONTRATO PLURIANUAL MODIFICADO SE ENCUENTRA SIN INFORMACIÓN POR NO TRATARSE DE UN CONTRATO PLURIANUAL. LA COLUMNA Z DE HIPERVÍNCULO AL CONVENIO MODIFICATORIO SE ENCUENTRA SIN INFORMACIÓN POR NO HABERSE REALIZADO NINGÚN CONTRATO PLURIANUAL.
A24: 2026 | B24: 46054 | C24: 46081 | D24: Permiso | E24: SSP/DT/OVP-257-25-R/2026 | F24: AUTORIZACIÓN PARA OCUPACIÓN EN VÍA PÚBLICA | G24: ARTÍCULO 6 DEL REGLAMENTO DE PERMISOS DE CONSTRUCCIÓN DE GUADALUPE, NUEVO LEÓN. ART. 52 FRACC. III, 52 BIS FRACC. VIII Y 65 BIS I, FRACC. I, PÁRRAFO II, DE LA LEY DE HACIENDA PARA LOS MUNICIPIOS DEL ESTADO DE NUEVO LEÓN. | H24: SECRETARÍA DE SERVICIOS PÚBLICOS | I24: Privado | J24: EDUARDO | K24: DÍAZ | L24: CHÁVEZ | M24: Hombre | O24: 17 | P24: 45996 | Q24: 46018 | R24: ="PERMISO ESPECIAL PARA TRABAJOS EN LA VÍA PÚBLICA " & E24 -> PERMISO ESPECIAL PARA TRABAJOS EN LA VÍA PÚBLICA SSP/DT/OVP-257-25-R/2026 | S24: https://nuevatransparencia.guadalupe.gob.mx/cms/documentosTransparenciaLinks/349/106/anexo_6130_OVP-257-26.pdf | T24: USO DE LA VÍA PÚBLICA | U24: 0 | Y24: No | AA24: SECRETARÍA DE SERVICIOS PÚBLICOS | AB24: 46081 | AC24: LA COLUMNA V DE LOS HIPERVÍNCULOS DONDE SE DESGLOSE EL GASTO A PRECIOS DEL AÑO SE ENCUENTRA SIN INFORMACIÓN POR NO CORRESPONDERLE A ESTA SECRETARÍA. LA COLUMNA W DEL HIPERVÍNCULO AL INFORME SOBRE EL MONTO TOAL EROGADO, QUE EN SU CASO CORRESPONDA, SE ENCUENTRA EN BLANCO POR NO CORRESPONDERLE A ESTA SECRETARIA DICHA INFORMACIÓN. LA COLUMNA X DE HIPERVÍNCULOS AL CONTRATO PLURIANUAL MODIFICADO SE ENCUENTRA SIN INFORMACIÓN POR NO TRATARSE DE UN CONTRATO PLURIANUAL. LA COLUMNA Z DE HIPERVÍNCULO AL CONVENIO MODIFICATORIO SE ENCUENTRA SIN INFORMACIÓN POR NO HABERSE REALIZADO NINGÚN CONTRATO PLURIANUAL.
A25: 2026 | B25: 46054 | C25: 46081 | D25: Permiso | E25: SSP/DT/OVP-285-26-R/2026 | F25: AUTORIZACIÓN PARA OCUPACIÓN EN VÍA PÚBLICA | G25: ARTÍCULO 6 DEL REGLAMENTO DE PERMISOS DE CONSTRUCCIÓN DE GUADALUPE, NUEVO LEÓN. ART. 52 FRACC. III, 52 BIS FRACC. VIII Y 65 BIS I, FRACC. I, PÁRRAFO II, DE LA LEY DE HACIENDA PARA LOS MUNICIPIOS DEL ESTADO DE NUEVO LEÓN. | H25: SECRETARÍA DE SERVICIOS PÚBLICOS | I25: Privado | J25: MARÍA GUADALUPE | K25: RODRÍGUEZ | L25: CARRILLO | M25: Mujer | O25: 18 | P25: 45989 | Q25: 45993 | R25: ="PERMISO ESPECIAL PARA TRABAJOS EN LA VÍA PÚBLICA " & E25 -> PERMISO ESPECIAL PARA TRABAJOS EN LA VÍA PÚBLICA SSP/DT/OVP-285-26-R/2026 | S25: https://nuevatransparencia.guadalupe.gob.mx/cms/documentosTransparenciaLinks/349/106/anexo_6135_OVP-285-26.pdf | T25: USO DE LA VÍA PÚBLICA | U25: 0 | Y25: No | AA25: SECRETARÍA DE SERVICIOS PÚBLICOS | AB25: 46081 | AC25: LA COLUMNA V DE LOS HIPERVÍNCULOS DONDE SE DESGLOSE EL GASTO A PRECIOS DEL AÑO SE ENCUENTRA SIN INFORMACIÓN POR NO CORRESPONDERLE A ESTA SECRETARÍA. LA COLUMNA W DEL HIPERVÍNCULO AL INFORME SOBRE EL MONTO TOAL EROGADO, QUE EN SU CASO CORRESPONDA, SE ENCUENTRA EN BLANCO POR NO CORRESPONDERLE A ESTA SECRETARIA DICHA INFORMACIÓN. LA COLUMNA X DE HIPERVÍNCULOS AL CONTRATO PLURIANUAL MODIFICADO SE ENCUENTRA SIN INFORMACIÓN POR NO TRATARSE DE UN CONTRATO PLURIANUAL. LA COLUMNA Z DE HIPERVÍNCULO AL CONVENIO MODIFICATORIO SE ENCUENTRA SIN INFORMACIÓN POR NO HABERSE REALIZADO NINGÚN CONTRATO PLURIANUAL.
A26: 2026 | B26: 46054 | C26: 46081 | D26: Permiso | E26: SSP/DT/OVP-287-26-G/2026 | F26: AUTORIZACIÓN PARA OCUPACIÓN EN VÍA PÚBLICA | G26: ARTÍCULO 6 DEL REGLAMENTO DE PERMISOS DE CONSTRUCCIÓN DE GUADALUPE, NUEVO LEÓN. ART. 52 FRACC. III, 52 BIS FRACC. VIII Y 65 BIS I, FRACC. I, PÁRRAFO II, DE LA LEY DE HACIENDA PARA LOS MUNICIPIOS DEL ESTADO DE NUEVO LEÓN. | H26: SECRETARÍA DE SERVICIOS PÚBLICOS | I26: Privado | N26: NATURGY MÉXICO, S.A. DE C.V. | O26: 19 | P26: 46090 | Q26: 46179 | R26: ="PERMISO ESPECIAL PARA TRABAJOS EN LA VÍA PÚBLICA " & E26 -> PERMISO ESPECIAL PARA TRABAJOS EN LA VÍA PÚBLICA SSP/DT/OVP-287-26-G/2026 | S26: https://nuevatransparencia.guadalupe.gob.mx/cms/documentosTransparenciaLinks/349/106/anexo_6139_OVP-287-26.pdf | T26: USO DE LA VÍA PÚBLICA | U26: 0 | Y26: No | AA26: SECRETARÍA DE SERVICIOS PÚBLICOS | AB26: 46081 | AC26: LA COLUMNA V DE LOS HIPERVÍNCULOS DONDE SE DESGLOSE EL GASTO A PRECIOS DEL AÑO SE ENCUENTRA SIN INFORMACIÓN POR NO CORRESPONDERLE A ESTA SECRETARÍA. LA COLUMNA W DEL HIPERVÍNCULO AL INFORME SOBRE EL MONTO TOAL EROGADO, QUE EN SU CASO CORRESPONDA, SE ENCUENTRA EN BLANCO POR NO CORRESPONDERLE A ESTA SECRETARIA DICHA INFORMACIÓN. LA COLUMNA X DE HIPERVÍNCULOS AL CONTRATO PLURIANUAL MODIFICADO SE ENCUENTRA SIN INFORMACIÓN POR NO TRATARSE DE UN CONTRATO PLURIANUAL. LA COLUMNA Z DE HIPERVÍNCULO AL CONVENIO MODIFICATORIO SE ENCUENTRA SIN INFORMACIÓN POR NO HABERSE REALIZADO NINGÚN CONTRATO PLURIANUAL.
A27: 2026 | B27: 46054 | C27: 46081 | D27: Permiso | E27: SSP/DT/OVP-288-26-G/2026 | F27: AUTORIZACIÓN PARA OCUPACIÓN EN VÍA PÚBLICA | G27: ARTÍCULO 6 DEL REGLAMENTO DE PERMISOS DE CONSTRUCCIÓN DE GUADALUPE, NUEVO LEÓN. ART. 52 FRACC. III, 52 BIS FRACC. VIII Y 65 BIS I, FRACC. I, PÁRRAFO II, DE LA LEY DE HACIENDA PARA LOS MUNICIPIOS DEL ESTADO DE NUEVO LEÓN. | H27: SECRETARÍA DE SERVICIOS PÚBLICOS | I27: Privado | N27: NATURGY MÉXICO, S.A. DE C.V. | O27: 20 | P27: 46090 | Q27: 46185 | R27: PERMISO ESPECIAL PARA TRABAJOS EN LA VÍA PÚBLICA SSP/DT/OVP-288-26-G/2026 | S27: https://nuevatransparencia.guadalupe.gob.mx/cms/documentosTransparenciaLinks/349/106/anexo_6140_OVP-288-26.pdf | T27: USO DE LA VÍA PÚBLICA | U27: 0 | Y27: No | AA27: SECRETARÍA DE SERVICIOS PÚBLICOS | AB27: 46081 | AC27: LA COLUMNA V DE LOS HIPERVÍNCULOS DONDE SE DESGLOSE EL GASTO A PRECIOS DEL AÑO SE ENCUENTRA SIN INFORMACIÓN POR NO CORRESPONDERLE A ESTA SECRETARÍA. LA COLUMNA W DEL HIPERVÍNCULO AL INFORME SOBRE EL MONTO TOAL EROGADO, QUE EN SU CASO CORRESPONDA, SE ENCUENTRA EN BLANCO POR NO CORRESPONDERLE A ESTA SECRETARIA DICHA INFORMACIÓN. LA COLUMNA X DE HIPERVÍNCULOS AL CONTRATO PLURIANUAL MODIFICADO SE ENCUENTRA SIN INFORMACIÓN POR NO TRATARSE DE UN CONTRATO PLURIANUAL. LA COLUMNA Z DE HIPERVÍNCULO AL CONVENIO MODIFICATORIO SE ENCUENTRA SIN INFORMACIÓN POR NO HABERSE REALIZADO NINGÚN CONTRATO PLURIANUAL.
A28: 2026 | B28: 46054 | C28: 46081 | D28: Permiso | E28: SSP/DT/OVP-289-26-G/2026 | F28: AUTORIZACIÓN PARA OCUPACIÓN EN VÍA PÚBLICA | G28: ARTÍCULO 6 DEL REGLAMENTO DE PERMISOS DE CONSTRUCCIÓN DE GUADALUPE, NUEVO LEÓN. ART. 52 FRACC. III, 52 BIS FRACC. VIII Y 65 BIS I, FRACC. I, PÁRRAFO II, DE LA LEY DE HACIENDA PARA LOS MUNICIPIOS DEL ESTADO DE NUEVO LEÓN. | H28: SECRETARÍA DE SERVICIOS PÚBLICOS | I28: Privado | N28: NATURGY MÉXICO, S.A. DE C.V. | O28: 21 | P28: 46181 | Q28: 46264 | R28: PERMISO ESPECIAL PARA TRABAJOS EN LA VÍA PÚBLICA SSP/DT/OVP-289-26-G/2026 | S28: https://nuevatransparencia.guadalupe.gob.mx/cms/documentosTransparenciaLinks/349/106/anexo_6141_OVP-289-26.pdf | T28: USO DE LA VÍA PÚBLICA | U28: 0 | Y28: No | AA28: SECRETARÍA DE SERVICIOS PÚBLICOS | AB28: 46081 | AC28: LA COLUMNA V DE LOS HIPERVÍNCULOS DONDE SE DESGLOSE EL GASTO A PRECIOS DEL AÑO SE ENCUENTRA SIN INFORMACIÓN POR NO CORRESPONDERLE A ESTA SECRETARÍA. LA COLUMNA W DEL HIPERVÍNCULO AL INFORME SOBRE EL MONTO TOAL EROGADO, QUE EN SU CASO CORRESPONDA, SE ENCUENTRA EN BLANCO POR NO CORRESPONDERLE A ESTA SECRETARIA DICHA INFORMACIÓN. LA COLUMNA X DE HIPERVÍNCULOS AL CONTRATO PLURIANUAL MODIFICADO SE ENCUENTRA SIN INFORMACIÓN POR NO TRATARSE DE UN CONTRATO PLURIANUAL. LA COLUMNA Z DE HIPERVÍNCULO AL CONVENIO MODIFICATORIO SE ENCUENTRA SIN INFORMACIÓN POR NO HABERSE REALIZADO NINGÚN CONTRATO PLURIANUAL.
A29: 2026 | B29: 46054 | C29: 46081 | D29: Permiso | E29: SSP/DT/OVP-290-26-G/2026 | F29: AUTORIZACIÓN PARA OCUPACIÓN EN VÍA PÚBLICA | G29: ARTÍCULO 6 DEL REGLAMENTO DE PERMISOS DE CONSTRUCCIÓN DE GUADALUPE, NUEVO LEÓN. ART. 52 FRACC. III, 52 BIS FRACC. VIII Y 65 BIS I, FRACC. I, PÁRRAFO II, DE LA LEY DE HACIENDA PARA LOS MUNICIPIOS DEL ESTADO DE NUEVO LEÓN. | H29: SECRETARÍA DE SERVICIOS PÚBLICOS | I29: Privado | N29: NATURGY MÉXICO, S.A. DE C.V. | O29: 22 | P29: 46181 | Q29: 46258 | R29: PERMISO ESPECIAL PARA TRABAJOS EN LA VÍA PÚBLICA SSP/DT/OVP-290-26-G/2026 | S29: https://nuevatransparencia.guadalupe.gob.mx/cms/documentosTransparenciaLinks/349/106/anexo_6142_OVP-290-26.pdf | T29: USO DE LA VÍA PÚBLICA | U29: 0 | Y29: No | AA29: SECRETARÍA DE SERVICIOS PÚBLICOS | AB29: 46081 | AC29: LA COLUMNA V DE LOS HIPERVÍNCULOS DONDE SE DESGLOSE EL GASTO A PRECIOS DEL AÑO SE ENCUENTRA SIN INFORMACIÓN POR NO CORRESPONDERLE A ESTA SECRETARÍA. LA COLUMNA W DEL HIPERVÍNCULO AL INFORME SOBRE EL MONTO TOAL EROGADO, QUE EN SU CASO CORRESPONDA, SE ENCUENTRA EN BLANCO POR NO CORRESPONDERLE A ESTA SECRETARIA DICHA INFORMACIÓN. LA COLUMNA X DE HIPERVÍNCULOS AL CONTRATO PLURIANUAL MODIFICADO SE ENCUENTRA SIN INFORMACIÓN POR NO TRATARSE DE UN CONTRATO PLURIANUAL. LA COLUMNA Z DE HIPERVÍNCULO AL CONVENIO MODIFICATORIO SE ENCUENTRA SIN INFORMACIÓN POR NO HABERSE REALIZADO NINGÚN CONTRATO PLURIANUAL.
A30: 2026 | B30: 46054 | C30: 46081 | D30: Permiso | E30: SSP/DT/OVP-296-26-R/2026 | F30: AUTORIZACIÓN PARA OCUPACIÓN EN VÍA PÚBLICA | G30: ARTÍCULO 6 DEL REGLAMENTO DE PERMISOS DE CONSTRUCCIÓN DE GUADALUPE, NUEVO LEÓN. ART. 52 FRACC. III, 52 BIS FRACC. VIII Y 65 BIS I, FRACC. I, PÁRRAFO II, DE LA LEY DE HACIENDA PARA LOS MUNICIPIOS DEL ESTADO DE NUEVO LEÓN. | H30: SECRETARÍA DE SERVICIOS PÚBLICOS | I30: Privado | J30: GREGORIO | K30: CRUZ | L30: MEDRANO | M30: Hombre | O30: 23 | P30: 46059 | Q30: 46062 | R30: PERMISO ESPECIAL PARA TRABAJOS EN LA VÍA PÚBLICA SSP/DT/OVP-296-26-R/2026 | S30: https://nuevatransparencia.guadalupe.gob.mx/cms/documentosTransparenciaLinks/349/106/anexo_6147_OVP-296-26.pdf | T30: USO DE LA VÍA PÚBLICA | U30: 0 | Y30: No | AA30: SECRETARÍA DE SERVICIOS PÚBLICOS | AB30: 46081 | AC30: LA COLUMNA V DE LOS HIPERVÍNCULOS DONDE SE DESGLOSE EL GASTO A PRECIOS DEL AÑO SE ENCUENTRA SIN INFORMACIÓN POR NO CORRESPONDERLE A ESTA SECRETARÍA. LA COLUMNA W DEL HIPERVÍNCULO AL INFORME SOBRE EL MONTO TOAL EROGADO, QUE EN SU CASO CORRESPONDA, SE ENCUENTRA EN BLANCO POR NO CORRESPONDERLE A ESTA SECRETARIA DICHA INFORMACIÓN. LA COLUMNA X DE HIPERVÍNCULOS AL CONTRATO PLURIANUAL MODIFICADO SE ENCUENTRA SIN INFORMACIÓN POR NO TRATARSE DE UN CONTRATO PLURIANUAL. LA COLUMNA Z DE HIPERVÍNCULO AL CONVENIO MODIFICATORIO SE ENCUENTRA SIN INFORMACIÓN POR NO HABERSE REALIZADO NINGÚN CONTRATO PLURIANUAL.
A31: 2026 | B31: 46054 | C31: 46081 | D31: Permiso | E31: SSP/DT/OVP-297-26-R/2026 | F31: AUTORIZACIÓN PARA OCUPACIÓN EN VÍA PÚBLICA | G31: ARTÍCULO 6 DEL REGLAMENTO DE PERMISOS DE CONSTRUCCIÓN DE GUADALUPE, NUEVO LEÓN. ART. 52 FRACC. III, 52 BIS FRACC. VIII Y 65 BIS I, FRACC. I, PÁRRAFO II, DE LA LEY DE HACIENDA PARA LOS MUNICIPIOS DEL ESTADO DE NUEVO LEÓN. | H31: SECRETARÍA DE SERVICIOS PÚBLICOS | I31: Privado | J31: JUAN LORENZO | K31: ORNELAS | L31: CÁRDENAS | M31: Hombre | O31: 24 | P31: 46058 | Q31: 46062 | R31: PERMISO ESPECIAL PARA TRABAJOS EN LA VÍA PÚBLICA SSP/DT/OVP-297-26-R/2026 | S31: https://nuevatransparencia.guadalupe.gob.mx/cms/documentosTransparenciaLinks/349/106/anexo_6148_OVP-297-26.pdf | T31: USO DE LA VÍA PÚBLICA | U31: 0 | Y31: No | AA31: SECRETARÍA DE SERVICIOS PÚBLICOS | AB31: 46081 | AC31: LA COLUMNA V DE LOS HIPERVÍNCULOS DONDE SE DESGLOSE EL GASTO A PRECIOS DEL AÑO SE ENCUENTRA SIN INFORMACIÓN POR NO CORRESPONDERLE A ESTA SECRETARÍA. LA COLUMNA W DEL HIPERVÍNCULO AL INFORME SOBRE EL MONTO TOAL EROGADO, QUE EN SU CASO CORRESPONDA, SE ENCUENTRA EN BLANCO POR NO CORRESPONDERLE A ESTA SECRETARIA DICHA INFORMACIÓN. LA COLUMNA X DE HIPERVÍNCULOS AL CONTRATO PLURIANUAL MODIFICADO SE ENCUENTRA SIN INFORMACIÓN POR NO TRATARSE DE UN CONTRATO PLURIANUAL. LA COLUMNA Z DE HIPERVÍNCULO AL CONVENIO MODIFICATORIO SE ENCUENTRA SIN INFORMACIÓN POR NO HABERSE REALIZADO NINGÚN CONTRATO PLURIANUAL.
A32: 2026 | B32: 46054 | C32: 46081 | D32: Permiso | E32: SSP/DT/OVP-284-26-G/2026 | F32: AUTORIZACIÓN PARA OCUPACIÓN EN VÍA PÚBLICA | G32: ARTÍCULO 6 DEL REGLAMENTO DE PERMISOS DE CONSTRUCCIÓN DE GUADALUPE, NUEVO LEÓN. ART. 52 FRACC. III, 52 BIS FRACC. VIII Y 65 BIS I, FRACC. I, PÁRRAFO II, DE LA LEY DE HACIENDA PARA LOS MUNICIPIOS DEL ESTADO DE NUEVO LEÓN. | H32: SECRETARÍA DE SERVICIOS PÚBLICOS | I32: Privado | N32: NATURGY MÉXICO, S.A. DE C.V. | O32: 25 | P32: 46090 | Q32: 46116 | R32: PERMISIO ESPECIAL PARA TRABAJOS EN LA VÍA PÚBLICA SSP/DT/OVP-284-26-G/2026 | S32: https://nuevatransparencia.guadalupe.gob.mx/cms/documentosTransparenciaLinks/349/106/anexo_6134_OVP-284-26.pdf | T32: USO DE LA VÍA PÚBLICA | U32: 0 | Y32: No | AA32: SECRETARÍA DE SERVICIOS PÚBLICOS | AB32: 46081 | AC32: LA COLUMNA V DE LOS HIPERVÍNCULOS DONDE SE DESGLOSE EL GASTO A PRECIOS DEL AÑO SE ENCUENTRA SIN INFORMACIÓN POR NO CORRESPONDERLE A ESTA SECRETARÍA. LA COLUMNA W DEL HIPERVÍNCULO AL INFORME SOBRE EL MONTO TOAL EROGADO, QUE EN SU CASO CORRESPONDA, SE ENCUENTRA EN BLANCO POR NO CORRESPONDERLE A ESTA SECRETARIA DICHA INFORMACIÓN. LA COLUMNA X DE HIPERVÍNCULOS AL CONTRATO PLURIANUAL MODIFICADO SE ENCUENTRA SIN INFORMACIÓN POR NO TRATARSE DE UN CONTRATO PLURIANUAL. LA COLUMNA Z DE HIPERVÍNCULO AL CONVENIO MODIFICATORIO SE ENCUENTRA SIN INFORMACIÓN POR NO HABERSE REALIZADO NINGÚN CONTRATO PLURIANUAL.
A33: 2026 | B33: 46054 | C33: 46081 | D33: Permiso | E33: SSP/DT/OVP-124-25-R/2026 | F33: AUTORIZACIÓN PARA OCUPACIÓN EN VÍA PÚBLICA | G33: ARTÍCULO 6 DEL REGLAMENTO DE PERMISOS DE CONSTRUCCIÓN DE GUADALUPE, NUEVO LEÓN. ART. 52 FRACC. III, 52 BIS FRACC. VIII Y 65 BIS I, FRACC. I, PÁRRAFO II, DE LA LEY DE HACIENDA PARA LOS MUNICIPIOS DEL ESTADO DE NUEVO LEÓN. | H33: SECRETARÍA DE SERVICIOS PÚBLICOS | I33: Privado | J33: ARACELY | K33: DÁVILA | L33: ARRAMBIDE | O33: 26 | P33: 46029 | Q33: 46088 | R33: PERMISIO ESPECIAL PARA TRABAJOS EN LA VÍA PÚBLICA SSP/DT/OVP-124-25-R/2025 | S33: https://nuevatransparencia.guadalupe.gob.mx/cms/documentosTransparenciaLinks/349/106/anexo_6126_OVP-124-26.pdf | T33: USO DE LA VÍA PÚBLICA | U33: 0 | Y33: No | AA33: SECRETARÍA DE SERVICIOS PÚBLICOS | AB33: 46081 | AC33: LA COLUMNA V DE LOS HIPERVÍNCULOS DONDE SE DESGLOSE EL GASTO A PRECIOS DEL AÑO SE ENCUENTRA SIN INFORMACIÓN POR NO CORRESPONDERLE A ESTA SECRETARÍA. LA COLUMNA W DEL HIPERVÍNCULO AL INFORME SOBRE EL MONTO TOAL EROGADO, QUE EN SU CASO CORRESPONDA, SE ENCUENTRA EN BLANCO POR NO CORRESPONDERLE A ESTA SECRETARIA DICHA INFORMACIÓN. LA COLUMNA X DE HIPERVÍNCULOS AL CONTRATO PLURIANUAL MODIFICADO SE ENCUENTRA SIN INFORMACIÓN POR NO TRATARSE DE UN CONTRATO PLURIANUAL. LA COLUMNA Z DE HIPERVÍNCULO AL CONVENIO MODIFICATORIO SE ENCUENTRA SIN INFORMACIÓN POR NO HABERSE REALIZADO NINGÚN CONTRATO PLURIANUAL.
A34: 2026 | B34: 46054 | C34: 46081 | D34: Permiso | E34: SSP/DT/OVP-281-26-R/2026 | F34: AUTORIZACIÓN PARA OCUPACIÓN EN VÍA PÚBLICA | G34: ARTÍCULO 6 DEL REGLAMENTO DE PERMISOS DE CONSTRUCCIÓN DE GUADALUPE, NUEVO LEÓN. ART. 52 FRACC. III, 52 BIS FRACC. VIII Y 65 BIS I, FRACC. I, PÁRRAFO II, DE LA LEY DE HACIENDA PARA LOS MUNICIPIOS DEL ESTADO DE NUEVO LEÓN. | H34: SECRETARÍA DE SERVICIOS PÚBLICOS | I34: Privado | J34: VICTOR MACLOVIO | K34: GARZA | L34: SALAZAR | O34: 27 | P34: 46029 | Q34: 46039 | R34: PERMISO ESPECIAL PARA TRABAJOS EN LA VÍA PÚBLICA SSP/DT/OVP-281-26-R/2026 | S34: https://nuevatransparencia.guadalupe.gob.mx/cms/documentosTransparenciaLinks/349/106/anexo_6155_OVP-281-R-2026.pdf | T34: USO DE LA VÍA PÚBLICA | U34: 0 | Y34: No | AA34: SECRETARÍA DE SERVICIOS PÚBLICOS | AB34: 46081 | AC34: LA COLUMNA V DE LOS HIPERVÍNCULOS DONDE SE DESGLOSE EL GASTO A PRECIOS DEL AÑO SE ENCUENTRA SIN INFORMACIÓN POR NO CORRESPONDERLE A ESTA SECRETARÍA. LA COLUMNA W DEL HIPERVÍNCULO AL INFORME SOBRE EL MONTO TOAL EROGADO, QUE EN SU CASO CORRESPONDA, SE ENCUENTRA EN BLANCO POR NO CORRESPONDERLE A ESTA SECRETARIA DICHA INFORMACIÓN. LA COLUMNA X DE HIPERVÍNCULOS AL CONTRATO PLURIANUAL MODIFICADO SE ENCUENTRA SIN INFORMACIÓN POR NO TRATARSE DE UN CONTRATO PLURIANUAL. LA COLUMNA Z DE HIPERVÍNCULO AL CONVENIO MODIFICATORIO SE ENCUENTRA SIN INFORMACIÓN POR NO HABERSE REALIZADO NINGÚN CONTRATO PLURIANUAL.
A35: 2026 | B35: 46054 | C35: 46081 | D35: Permiso | E35: SSP/DT/OVP-281-26-R1/2026 | F35: AUTORIZACIÓN PARA OCUPACIÓN EN VÍA PÚBLICA | G35: ARTÍCULO 6 DEL REGLAMENTO DE PERMISOS DE CONSTRUCCIÓN DE GUADALUPE, NUEVO LEÓN. ART. 52 FRACC. III, 52 BIS FRACC. VIII Y 65 BIS I, FRACC. I, PÁRRAFO II, DE LA LEY DE HACIENDA PARA LOS MUNICIPIOS DEL ESTADO DE NUEVO LEÓN. | H35: SECRETARÍA DE SERVICIOS PÚBLICOS | I35: Privado | J35: VICTOR MACLOVIO | K35: GARZA | L35: SALAZAR | O35: 28 | P35: 46029 | Q35: 46039 | R35: PERMISO ESPECIAL PARA TRABAJOS EN LA VÍA PÚBLICA SSP/DT/OVP-281-26-R1/2026 | S35: https://nuevatransparencia.guadalupe.gob.mx/cms/documentosTransparenciaLinks/349/106/anexo_6156_OVP-281-R1-2026.pdf | T35: USO DE LA VÍA PÚBLICA | U35: 0 | Y35: No | AA35: SECRETARÍA DE SERVICIOS PÚBLICOS | AB35: 46081 | AC35: LA COLUMNA V DE LOS HIPERVÍNCULOS DONDE SE DESGLOSE EL GASTO A PRECIOS DEL AÑO SE ENCUENTRA SIN INFORMACIÓN POR NO CORRESPONDERLE A ESTA SECRETARÍA. LA COLUMNA W DEL HIPERVÍNCULO AL INFORME SOBRE EL MONTO TOAL EROGADO, QUE EN SU CASO CORRESPONDA, SE ENCUENTRA EN BLANCO POR NO CORRESPONDERLE A ESTA SECRETARIA DICHA INFORMACIÓN. LA COLUMNA X DE HIPERVÍNCULOS AL CONTRATO PLURIANUAL MODIFICADO SE ENCUENTRA SIN INFORMACIÓN POR NO TRATARSE DE UN CONTRATO PLURIANUAL. LA COLUMNA Z DE HIPERVÍNCULO AL CONVENIO MODIFICATORIO SE ENCUENTRA SIN INFORMACIÓN POR NO HABERSE REALIZADO NINGÚN CONTRATO PLURIANUAL.
A36: 2026 | B36: 46054 | C36: 46081 | D36: Permiso | E36: SSP/DT/OVP-282-26-R/2026 | F36: AUTORIZACIÓN PARA OCUPACIÓN EN VÍA PÚBLICA | G36: ARTÍCULO 6 DEL REGLAMENTO DE PERMISOS DE CONSTRUCCIÓN DE GUADALUPE, NUEVO LEÓN. ART. 52 FRACC. III, 52 BIS FRACC. VIII Y 65 BIS I, FRACC. I, PÁRRAFO II, DE LA LEY DE HACIENDA PARA LOS MUNICIPIOS DEL ESTADO DE NUEVO LEÓN. | H36: SECRETARÍA DE SERVICIOS PÚBLICOS | I36: Privado | J36: MAURILLO | K36: MORALES | L36: CASTILLO | O36: 29 | P36: 46042 | Q36: 46044 | R36: PERMISO ESPECIAL PARA TRABAJOS EN LA VÍA PÚBLICA SSP/DT/OVP-282-26-R/2026 | S36: https://nuevatransparencia.guadalupe.gob.mx/cms/documentosTransparenciaLinks/349/106/anexo_6157_OVP-282-26.pdf | T36: USO DE LA VÍA PÚBLICA | U36: 0 | Y36: No | AA36: SECRETARÍA DE SERVICIOS PÚBLICOS | AB36: 46081 | AC36: LA COLUMNA V DE LOS HIPERVÍNCULOS DONDE SE DESGLOSE EL GASTO A PRECIOS DEL AÑO SE ENCUENTRA SIN INFORMACIÓN POR NO CORRESPONDERLE A ESTA SECRETARÍA. LA COLUMNA W DEL HIPERVÍNCULO AL INFORME SOBRE EL MONTO TOAL EROGADO, QUE EN SU CASO CORRESPONDA, SE ENCUENTRA EN BLANCO POR NO CORRESPONDERLE A ESTA SECRETARIA DICHA INFORMACIÓN. LA COLUMNA X DE HIPERVÍNCULOS AL CONTRATO PLURIANUAL MODIFICADO SE ENCUENTRA SIN INFORMACIÓN POR NO TRATARSE DE UN CONTRATO PLURIANUAL. LA COLUMNA Z DE HIPERVÍNCULO AL CONVENIO MODIFICATORIO SE ENCUENTRA SIN INFORMACIÓN POR NO HABERSE REALIZADO NINGÚN CONTRATO PLURIANUAL.
A37: 2026 | B37: 46054 | C37: 46081 | D37: Permiso | E37: SSP/DT/OVP-303-26-R/2026 | F37: AUTORIZACIÓN PARA OCUPACIÓN EN VÍA PÚBLICA | G37: ARTÍCULO 6 DEL REGLAMENTO DE PERMISOS DE CONSTRUCCIÓN DE GUADALUPE, NUEVO LEÓN. ART. 52 FRACC. III, 52 BIS FRACC. VIII Y 65 BIS I, FRACC. I, PÁRRAFO II, DE LA LEY DE HACIENDA PARA LOS MUNICIPIOS DEL ESTADO DE NUEVO LEÓN. | H37: SECRETARÍA DE SERVICIOS PÚBLICOS | I37: Privado | J37: MAYELA ESMERALDA | K37: FLORES | L37: BOCANEGRA | O37: 30 | P37: 46069 | Q37: 46072 | R37: PERMISO ESPECIAL PARA TRABAJOS EN LA VÍA PÚBLICA SSP/DT/OVP-303-26-R/2026 | S37: https://nuevatransparencia.guadalupe.gob.mx/cms/documentosTransparenciaLinks/349/106/anexo_6154_OVP-303-26.pdf | T37: USO DE LA VÍA PÚBLICA | U37: 0 | Y37: No | AA37: SECRETARÍA DE SERVICIOS PÚBLICOS | AB37: 46081 | AC37: LA COLUMNA V DE LOS HIPERVÍNCULOS DONDE SE DESGLOSE EL GASTO A PRECIOS DEL AÑO SE ENCUENTRA SIN INFORMACIÓN POR NO CORRESPONDERLE A ESTA SECRETARÍA. LA COLUMNA W DEL HIPERVÍNCULO AL INFORME SOBRE EL MONTO TOAL EROGADO, QUE EN SU CASO CORRESPONDA, SE ENCUENTRA EN BLANCO POR NO CORRESPONDERLE A ESTA SECRETARIA DICHA INFORMACIÓN. LA COLUMNA X DE HIPERVÍNCULOS AL CONTRATO PLURIANUAL MODIFICADO SE ENCUENTRA SIN INFORMACIÓN POR NO TRATARSE DE UN CONTRATO PLURIANUAL. LA COLUMNA Z DE HIPERVÍNCULO AL CONVENIO MODIFICATORIO SE ENCUENTRA SIN INFORMACIÓN POR NO HABERSE REALIZADO NINGÚN CONTRATO PLURIANUAL.
A38: 2026 | B38: 46054 | C38: 46081 | D38: Permiso | E38: SSP/DT/OVP-305-26-R/2026 | F38: AUTORIZACIÓN PARA OCUPACIÓN EN VÍA PÚBLICA | G38: ARTÍCULO 6 DEL REGLAMENTO DE PERMISOS DE CONSTRUCCIÓN DE GUADALUPE, NUEVO LEÓN. ART. 52 FRACC. III, 52 BIS FRACC. VIII Y 65 BIS I, FRACC. I, PÁRRAFO II, DE LA LEY DE HACIENDA PARA LOS MUNICIPIOS DEL ESTADO DE NUEVO LEÓN. | H38: SECRETARÍA DE SERVICIOS PÚBLICOS | I38: Privado | J38: ISAAC | K38: CARRIZALES | L38: ESPINOZA | O38: 31 | P38: 46063 | Q38: 46069 | R38: PERMISO ESPECIAL PARA TRABAJOS EN LA VÍA PÚBLICA SSP/DT/OVP-305-26-R/2026 | S38: https://nuevatransparencia.guadalupe.gob.mx/cms/documentosTransparenciaLinks/349/106/anexo_6152_OVP-305-2026.pdf | T38: USO DE LA VÍA PÚBLICA | U38: 0 | Y38: No | AA38: SECRETARÍA DE SERVICIOS PÚBLICOS | AB38: 46081 | AC38: LA COLUMNA V DE LOS HIPERVÍNCULOS DONDE SE DESGLOSE EL GASTO A PRECIOS DEL AÑO SE ENCUENTRA SIN INFORMACIÓN POR NO CORRESPONDERLE A ESTA SECRETARÍA. LA COLUMNA W DEL HIPERVÍNCULO AL INFORME SOBRE EL MONTO TOAL EROGADO, QUE EN SU CASO CORRESPONDA, SE ENCUENTRA EN BLANCO POR NO CORRESPONDERLE A ESTA SECRETARIA DICHA INFORMACIÓN. LA COLUMNA X DE HIPERVÍNCULOS AL CONTRATO PLURIANUAL MODIFICADO SE ENCUENTRA SIN INFORMACIÓN POR NO TRATARSE DE UN CONTRATO PLURIANUAL. LA COLUMNA Z DE HIPERVÍNCULO AL CONVENIO MODIFICATORIO SE ENCUENTRA SIN INFORMACIÓN POR NO HABERSE REALIZADO NINGÚN CONTRATO PLURIANUAL.
A39: 2026 | B39: 46054 | C39: 46081 | D39: Permiso | E39: SSP/DT/OVP-306-26-R/2026 | F39: AUTORIZACIÓN PARA OCUPACIÓN EN VÍA PÚBLICA | G39: ARTÍCULO 6 DEL REGLAMENTO DE PERMISOS DE CONSTRUCCIÓN DE GUADALUPE, NUEVO LEÓN. ART. 52 FRACC. III, 52 BIS FRACC. VIII Y 65 BIS I, FRACC. I, PÁRRAFO II, DE LA LEY DE HACIENDA PARA LOS MUNICIPIOS DEL ESTADO DE NUEVO LEÓN. | H39: SECRETARÍA DE SERVICIOS PÚBLICOS | I39: Privado | J39: SYLVIA MARÍA | K39: ELIZONDO | L39: MARTINEZ | O39: 32 | P39: 46107 | Q39: 46120 | R39: PERMISO ESPECIAL PARA TRABAJOS EN LA VIA PÚBLICA SSP/DT/OVP-306-R/2026 | S39: https://nuevatransparencia.guadalupe.gob.mx/cms/documentosTransparenciaLinks/349/106/anexo_6153_OVP-306-2026.pdf | T39: USO DE LA VÍA PÚBLICA | U39: 0 | Y39: No | AA39: SECRETARÍA DE SERVICIOS PÚBLICOS | AB39: 46081 | AC39: LA COLUMNA V DE LOS HIPERVÍNCULOS DONDE SE DESGLOSE EL GASTO A PRECIOS DEL AÑO SE ENCUENTRA SIN INFORMACIÓN POR NO CORRESPONDERLE A ESTA SECRETARÍA. LA COLUMNA W DEL HIPERVÍNCULO AL INFORME SOBRE EL MONTO TOAL EROGADO, QUE EN SU CASO CORRESPONDA, SE ENCUENTRA EN BLANCO POR NO CORRESPONDERLE A ESTA SECRETARIA DICHA INFORMACIÓN. LA COLUMNA X DE HIPERVÍNCULOS AL CONTRATO PLURIANUAL MODIFICADO SE ENCUENTRA SIN INFORMACIÓN POR NO TRATARSE DE UN CONTRATO PLURIANUAL. LA COLUMNA Z DE HIPERVÍNCULO AL CONVENIO MODIFICATORIO SE ENCUENTRA SIN INFORMACIÓN POR NO HABERSE REALIZADO NINGÚN CONTRATO PLURIANUAL.

Sheet Hidden_1
A1: LICENCIA
A2: CONTRATO
A3: CONVENIO
A4: PERMISO
A5: CONCESIÓN
A6: AUTORIZACIÓN
A7: ASIGNACIONES
A8: OTRO (ESPECIFICAR)

Sheet Hidden_2
A1: PRIVADO
A2: PÚBLICO
A3: MIXTO

Sheet Hidden_3
A1: HOMBRE
A2: MUJER

Sheet Hidden_4
A1: SI
A2: NO

Sheet Tabla_590155
B1: 2 | C1: 2 | D1: 2
B2: 81202 | C2: 81204 | D2: 81203
A3: ID | B3: Nombre(s) de la persona beneficiaria final | C3: Primer apellido de la persona beneficiaria final | D3: Segundo apellido de la persona beneficiaria final
A4: 1 | B4: =IF(ISTEXT('Reporte de Formatos'!J8),'Reporte de Formatos'!J8,'Reporte de Formatos'!N8) -> RICARDO HÉCTOR | C4: =IF(ISTEXT('Reporte de Formatos'!K8),'Reporte de Formatos'!K8,"") -> GARZA | D4: =IF(ISTEXT('Reporte de Formatos'!L8),'Reporte de Formatos'!L8,"") -> LIVAS
A5: 2 | B5: =IF(ISTEXT('Reporte de Formatos'!J9),'Reporte de Formatos'!J9,'Reporte de Formatos'!N9) -> DORA ELIA | C5: =IF(ISTEXT('Reporte de Formatos'!K9),'Reporte de Formatos'!K9,"") -> OCHOA | D5: =IF(ISTEXT('Reporte de Formatos'!L9),'Reporte de Formatos'!L9,"") -> RODRÍGUEZ
A6: 3 | B6: =IF(ISTEXT('Reporte de Formatos'!J10),'Reporte de Formatos'!J10,'Reporte de Formatos'!N10) -> NATURGY MÉXICO, S.A. DE C.V. | C6: =IF(ISTEXT('Reporte de Formatos'!K10),'Reporte de Formatos'!K10,"") | D6: =IF(ISTEXT('Reporte de Formatos'!L10),'Reporte de Formatos'!L10,"")
A7: 4 | B7: =IF(ISTEXT('Reporte de Formatos'!J11),'Reporte de Formatos'!J11,'Reporte de Formatos'!N11) -> SERVICIOS LOGÍSITICOS KEYON, S.A. DE C.V. | C7: =IF(ISTEXT('Reporte de Formatos'!K11),'Reporte de Formatos'!K11,"") | D7: =IF(ISTEXT('Reporte de Formatos'!L11),'Reporte de Formatos'!L11,"")
A8: 5 | B8: =IF(ISTEXT('Reporte de Formatos'!J12),'Reporte de Formatos'!J12,'Reporte de Formatos'!N12) -> NORMA JERUSALEM CELESTE | C8: =IF(ISTEXT('Reporte de Formatos'!K12),'Reporte de Formatos'!K12,"") -> CISNEROS | D8: =IF(ISTEXT('Reporte de Formatos'!L12),'Reporte de Formatos'!L12,"") -> GALVÁN
A9: 6 | B9: =IF(ISTEXT('Reporte de Formatos'!J13),'Reporte de Formatos'!J13,'Reporte de Formatos'!N13) -> TANIA LIZETH | C9: =IF(ISTEXT('Reporte de Formatos'!K13),'Reporte de Formatos'!K13,"") -> VALDEZ | D9: =IF(ISTEXT('Reporte de Formatos'!L13),'Reporte de Formatos'!L13,"") -> LOZANO
A10: 7 | B10: =IF(ISTEXT('Reporte de Formatos'!J14),'Reporte de Formatos'!J14,'Reporte de Formatos'!N14) -> TANIA LIZETH | C10: =IF(ISTEXT('Reporte de Formatos'!K14),'Reporte de Formatos'!K14,"") -> VALDEZ | D10: =IF(ISTEXT('Reporte de Formatos'!L14),'Reporte de Formatos'!L14,"") -> LOZANO
A11: 8 | B11: =IF(ISTEXT('Reporte de Formatos'!J15),'Reporte de Formatos'!J15,'Reporte de Formatos'!N15) -> TANIA LIZETH | C11: =IF(ISTEXT('Reporte de Formatos'!K15),'Reporte de Formatos'!K15,"") -> VALDEZ | D11: =IF(ISTEXT('Reporte de Formatos'!L15),'Reporte de Formatos'!L15,"") -> LOZANO
A12: 9 | B12: =IF(ISTEXT('Reporte de Formatos'!J16),'Reporte de Formatos'!J16,'Reporte de Formatos'!N16) -> INMOBILIARIA HL, S.A. DE C.V. Y HACIENDA LOMA LARGA, S.A. DE C.V. | C12: =IF(ISTEXT('Reporte de Formatos'!K16),'Reporte de Formatos'!K16,"") | D12: =IF(ISTEXT('Reporte de Formatos'!L16),'Reporte de Formatos'!L16,"")
A13: 10 | B13: =IF(ISTEXT('Reporte de Formatos'!J17),'Reporte de Formatos'!J17,'Reporte de Formatos'!N17) -> INMOBILIARIA HL, S.A. DE C.V. Y HACIENDA LOMA LARGA, S.A. DE C.V. | C13: =IF(ISTEXT('Reporte de Formatos'!K17),'Reporte de Formatos'!K17,"") | D13: =IF(ISTEXT('Reporte de Formatos'!L17),'Reporte de Formatos'!L17,"")
A14: 11 | B14: =IF(ISTEXT('Reporte de Formatos'!J18),'Reporte de Formatos'!J18,'Reporte de Formatos'!N18) -> INMOBILIARIA 777, S.A. DE C.V. | C14: =IF(ISTEXT('Reporte de Formatos'!K18),'Reporte de Formatos'!K18,"") | D14: =IF(ISTEXT('Reporte de Formatos'!L18),'Reporte de Formatos'!L18,"")
A15: 12 | B15: =IF(ISTEXT('Reporte de Formatos'!J19),'Reporte de Formatos'!J19,'Reporte de Formatos'!N19) -> LEONILO | C15: =IF(ISTEXT('Reporte de Formatos'!K19),'Reporte de Formatos'!K19,"") -> RIVERA | D15: =IF(ISTEXT('Reporte de Formatos'!L19),'Reporte de Formatos'!L19,"") -> SÁNCHEZ
... A35: 32 | B35: =IF(ISTEXT('Reporte de Formatos'!J39),'Reporte de Formatos'!J39,'Reporte de Formatos'!N39) -> SYLVIA MARÍA | C35: =IF(ISTEXT('Reporte de Formatos'!K39),'Reporte de Formatos'!K39,"") -> ELIZONDO | D35: =IF(ISTEXT('Reporte de Formatos'!L39),'Reporte de Formatos'!L39,"") -> MARTINEZ
